BEGIN:VCALENDAR
VERSION:2.0
CALSCALE:GREGORIAN
PRODID:adamgibbons/ics
METHOD:PUBLISH
X-PUBLISHED-TTL:PT1H
BEGIN:VEVENT
UID:798@torontol.askapunk.net
SUMMARY:Breaking The Borders Fundraiser-Matinee Cookout Edition
DTSTAMP:20260425T225527Z
DTSTART:20260523T200000Z
DESCRIPTION:💀 BREAKING THE BORDERS FUNDRAISER PART 2 💀\n\nMATINEE BBQ COOKO
	UT EDITION!\n\nCOME TO RAVENGROVE ON MAY 23RD FOR A BBQ CRUST SHOW TO HELP
	 US RAISE FUNDS FOR\nTHE FEST.\n\n4PM WE FIRE UP THE BBQ\, BANDS AT 5PM\n\
	nWE’LL BE SELLING HOT/VEGGIE DOGS AND ELOTES\, HAVING A 50/50 RAFFLE AND M
	ORE\nSUMMER FUN!\n\nPLUS SICK BANDS!\n@HEXOFFENDER_BAND [https://www.insta
	gram.com/hexoffender_band/]\n@RAWPUNKDECADE [https://www.instagram.com/raw
	punkdecade/]\n@SLACKER_BAND_ [https://www.instagram.com/slacker_band_/]\n\
	nPUNK!
URL:https://toronto.askapunk.net/event/breaking-the-borders-fundraiser-mati
	nee-cookout-edition
LOCATION:Ravengrove - Ask a punk
STATUS:CONFIRMED
CATEGORIES:
X-ALT-DESC;FMTTYPE=text/html:<h3>💀 Breaking the Borders Fundraiser Part 2 💀
	<br><br>Matinee BBQ cookout edition!<br><br>Come to Ravengrove on May 23rd
	 for a BBQ Crust Show to help us raise funds for the fest.<br><br>4pm we f
	ire up the BBQ, bands at 5pm<br><br>We’ll be selling hot/veggie dogs and e
	lotes, having a 50/50 raffle and more summer fun!<br><br>Plus sick bands!<
	br><a href="https://www.instagram.com/hexoffender_band/" target="_blank">@
	hexoffender_band</a><br><a href="https://www.instagram.com/rawpunkdecade/"
	 target="_blank">@rawpunkdecade</a><br><a href="https://www.instagram.com/
	slacker_band_/" target="_blank">@slacker_band_</a><br><br>Punk!</h3>
BEGIN:VALARM
ACTION:DISPLAY
DESCRIPTION:Breaking The Borders Fundraiser-Matinee Cookout Edition
TRIGGER:-PT1H
END:VALARM
END:VEVENT
END:VCALENDAR
