BEGIN:VCALENDAR
VERSION:2.0
CALSCALE:GREGORIAN
PRODID:adamgibbons/ics
METHOD:PUBLISH
X-PUBLISHED-TTL:PT1H
BEGIN:VEVENT
UID:795@torontol.askapunk.net
SUMMARY:Cell Press & Holofernes Head @ Double Double Convenience
DTSTAMP:20260425T232352Z
DTSTART:20260606T233000Z
DTEND:20260607T033000Z
DESCRIPTION:COWARD PATROL PRESENTS...\n\nA DOUBLE DOSE OF SLUDGE THAT'S SUR
	E TO BRING THE ROOF DOWN\n\nCELL PRESS (Montreal)\nhttps://cellpress.bandc
	amp.com/album/tabula-rasa\n[https://cellpress.bandcamp.com/album/tabula-ra
	sa]\nHOLOFERNES HEAD (Toronto)\nhttps://www.youtube.com/watch?v=rJ2fwUKJT4
	I\n[https://www.youtube.com/watch?v=rJ2fwUKJT4I]\n\nSATURDAY\, 6 JUNE 2026
	\nDOUBLE DOUBLE CONVENIENCE 🏪\n$10 / PWYC\n7:30pm
URL:https://toronto.askapunk.net/event/cell-press-and-holofernes-head-doubl
	e-double-convenience
LOCATION:dd convenience - 927 Bloor St W
STATUS:CONFIRMED
CATEGORIES:Coward Patrol
X-ALT-DESC;FMTTYPE=text/html:<p>COWARD PATROL PRESENTS...<br><br>A DOUBLE D
	OSE OF SLUDGE THAT'S SURE TO BRING THE ROOF DOWN<br><br>CELL PRESS (Montre
	al)<br><a href="https://cellpress.bandcamp.com/album/tabula-rasa" target="
	_blank">https://cellpress.bandcamp.com/album/tabula-rasa</a><br>HOLOFERNES
	 HEAD (Toronto)<br><a href="https://www.youtube.com/watch?v=rJ2fwUKJT4I" t
	arget="_blank">https://www.youtube.com/watch?v=rJ2fwUKJT4I</a><br><br>SATU
	RDAY, 6 JUNE 2026<br>DOUBLE DOUBLE CONVENIENCE 🏪<br>$10 / PWYC<br>7:30pm</
	p>
BEGIN:VALARM
ACTION:DISPLAY
DESCRIPTION:Cell Press & Holofernes Head @ Double Double Convenience
TRIGGER:-PT1H
END:VALARM
END:VEVENT
END:VCALENDAR
