BEGIN:VCALENDAR
VERSION:2.0
CALSCALE:GREGORIAN
PRODID:adamgibbons/ics
METHOD:PUBLISH
X-PUBLISHED-TTL:PT1H
BEGIN:VEVENT
UID:797@torontol.askapunk.net
SUMMARY:Retorsion + Morgue Breath + Fake Dust + Red 40 + T.O.A.D.
DTSTAMP:20260425T225700Z
DTSTART:20260529T000000Z
DTEND:20260529T033000Z
DESCRIPTION:COWARD PATROL PRESENTS...\n\nAN UNHEALTHY HELPING OF THE GRIMIE
	ST GRINDCORE AND PUSTULENT POWERVIOLENCE\n\nRETORSION (Budapest)\nhttps://
	retorsion.bandcamp.com/ [https://retorsion.bandcamp.com/]\n\nMORGUE BREATH
	 (Los Angeles)\nhttps://morguebreath.bandcamp.com/music\n[https://morguebr
	eath.bandcamp.com/music]\n\nFAKE DUST (Portland)\nhttps://fakedust1.bandca
	mp.com/ [https://fakedust1.bandcamp.com/]\n\nRED 40 (Calgary)\nhttps://red
	40.bandcamp.com/album/demo-s-t\n[https://red40.bandcamp.com/album/demo-s-t
	]\n\nT.O.A.D. (Toronto)\nhttps://truthofalldeath.bandcamp.com/music\n[http
	s://truthofalldeath.bandcamp.com/music]\n\nTHURSDAY\, 28 MAY 2026\nTHE JAM
	A (961 COLLEGE ST)\nNOISE STARTS AT 8:00 PM\n$20
URL:https://toronto.askapunk.net/event/retorsion-morgue-breath-fake-dust-re
	d-40-toad
LOCATION:The Jama - 961 College Street
STATUS:CONFIRMED
CATEGORIES:Coward Patrol
X-ALT-DESC;FMTTYPE=text/html:<p>COWARD PATROL PRESENTS...</p><p>AN UNHEALTH
	Y HELPING OF THE GRIMIEST GRINDCORE AND PUSTULENT POWERVIOLENCE</p><p>RETO
	RSION (Budapest)<br><a href="https://retorsion.bandcamp.com/" target="_bla
	nk"><strong>https://retorsion.bandcamp.com/</strong></a></p><p>MORGUE BREA
	TH (Los Angeles)<br><a href="https://morguebreath.bandcamp.com/music" targ
	et="_blank"><strong>https://morguebreath.bandcamp.com/music</strong></a></
	p><p>FAKE DUST (Portland)<br><a href="https://fakedust1.bandcamp.com/" tar
	get="_blank"><strong>https://fakedust1.bandcamp.com/</strong></a></p><p>RE
	D 40 (Calgary)<br><a href="https://red40.bandcamp.com/album/demo-s-t" targ
	et="_blank"><strong>https://red40.bandcamp.com/album/demo-s-t</strong></a>
	</p><p>T.O.A.D. (Toronto)<br><a href="https://truthofalldeath.bandcamp.com
	/music" target="_blank"><strong>https://truthofalldeath.bandcamp.com/music
	</strong></a></p><p>THURSDAY, 28 MAY 2026<br>THE JAMA (961 COLLEGE ST)<br>
	NOISE STARTS AT 8:00 PM<br>$20</p>
BEGIN:VALARM
ACTION:DISPLAY
DESCRIPTION:Retorsion + Morgue Breath + Fake Dust + Red 40 + T.O.A.D.
TRIGGER:-PT1H
END:VALARM
END:VEVENT
END:VCALENDAR
