BEGIN:VCALENDAR
VERSION:2.0
CALSCALE:GREGORIAN
PRODID:adamgibbons/ics
METHOD:PUBLISH
X-PUBLISHED-TTL:PT1H
BEGIN:VEVENT
UID:796@torontol.askapunk.net
SUMMARY:Suspicious Death of a Horse\, FAIDS\, Tampoff
DTSTAMP:20260425T225715Z
DTSTART:20260509T233000Z
DTEND:20260510T030000Z
DESCRIPTION:Come out to the Rat’s Nest for a night of math-rock\, surf-meta
	l\, and wacky punk!\n\nTampoff is a comedic punk rock band featuring songs
	 about coffee tables\, Mel\nGibson and getting angry with your parents whe
	n they put you to bed way too\nearly.\n\nFAIDS is a proggy surf metal band
	 from Sarnia\, ON.\n\nSuspicious Death of a Horse will assault your senses
	 with a barrage of riffs and\nblasting beats.\n\nSaturday\, May 9th\nDoors
	 at 7:30 / music at 8:30 / show over by 11\n\n@ The Rat’s Nest (1426 Bloor
	 St W)\n\n$10/PWYC\n\nPoster by Danny Alexander
URL:https://toronto.askapunk.net/event/suspicious-death-of-a-horse-faids-ta
	mpoff
LOCATION:The Rat's Nest - 1426 Bloor Street West\, Upstairs
STATUS:CONFIRMED
CATEGORIES:
X-ALT-DESC;FMTTYPE=text/html:<p>Come out to the Rat’s Nest for a night of m
	ath-rock, surf-metal, and wacky punk!<br><br>Tampoff is a comedic punk roc
	k band featuring songs about coffee tables, Mel Gibson and getting angry w
	ith your parents when they put you to bed way too early.<br><br>FAIDS is a
	 proggy surf metal band from Sarnia, ON. <br><br>Suspicious Death of a Hor
	se will assault your senses with a barrage of riffs and blasting beats. <b
	r><br>Saturday, May 9th<br>Doors at 7:30 / music at 8:30 / show over by 11
	<br><br>@ The Rat’s Nest (1426 Bloor St W)<br><br>$10/PWYC<br><br>Poster b
	y Danny Alexander</p>
BEGIN:VALARM
ACTION:DISPLAY
DESCRIPTION:Suspicious Death of a Horse, FAIDS, Tampoff
TRIGGER:-PT1H
END:VALARM
END:VEVENT
END:VCALENDAR
